BEGIN:VCALENDAR
VERSION:2.0
PRODID:-//bayerischer-wirt - ECPv6.15.11//NONSGML v1.0//EN
CALSCALE:GREGORIAN
METHOD:PUBLISH
X-WR-CALNAME:bayerischer-wirt
X-ORIGINAL-URL:https://www.bayerischer-wirt.de
X-WR-CALDESC:Veranstaltungen für bayerischer-wirt
REFRESH-INTERVAL;VALUE=DURATION:PT1H
X-Robots-Tag:noindex
X-PUBLISHED-TTL:PT1H
BEGIN:VTIMEZONE
TZID:Europe/Berlin
BEGIN:DAYLIGHT
TZOFFSETFROM:+0100
TZOFFSETTO:+0200
TZNAME:CEST
DTSTART:20240331T010000
END:DAYLIGHT
BEGIN:STANDARD
TZOFFSETFROM:+0200
TZOFFSETTO:+0100
TZNAME:CET
DTSTART:20241027T010000
END:STANDARD
BEGIN:DAYLIGHT
TZOFFSETFROM:+0100
TZOFFSETTO:+0200
TZNAME:CEST
DTSTART:20250330T010000
END:DAYLIGHT
BEGIN:STANDARD
TZOFFSETFROM:+0200
TZOFFSETTO:+0100
TZNAME:CET
DTSTART:20251026T010000
END:STANDARD
BEGIN:DAYLIGHT
TZOFFSETFROM:+0100
TZOFFSETTO:+0200
TZNAME:CEST
DTSTART:20260329T010000
END:DAYLIGHT
BEGIN:STANDARD
TZOFFSETFROM:+0200
TZOFFSETTO:+0100
TZNAME:CET
DTSTART:20261025T010000
END:STANDARD
END:VTIMEZONE
BEGIN:VEVENT
DTSTART;TZID=Europe/Berlin:20251217T193000
DTEND;TZID=Europe/Berlin:20251217T213000
DTSTAMP:20260423T210937
CREATED:20250806T104626Z
LAST-MODIFIED:20250806T104626Z
UID:6549-1765999800-1766007000@www.bayerischer-wirt.de
SUMMARY:Quantenheilung - Gruppentherapie- mit Thea Wachtendorf
DESCRIPTION:Körperliche und emotionale Probleme\, behindernde Glaubenssysteme oder sonstige Blockaden sind aus Sicht der Quantenphysik lediglich Störungen im Energiefeld. Diese können ohne Aufdeckung der Ursachen transformiert werden\, wenn im Bewusstsein der Person der entsprechende Impuls gesetzt wird. Diese Impulsgebung wird Quantenheilung genannt.\nHiermit biete ich einen Therapieabend Quantenheilung an\, an dem höchstens 12 Teilnehmer pro Abend teilnehmen können. Es handelt sich um eine Gruppentherapie in der jeder einzelne Teilnehmer eine individuelle Behandlung seiner persönlichen Probleme/ Krankheiten/ Störungen… erfährt und die übrige Zeit wird jeder TN im Gruppenfeld mit behandelt. Auf diese Art beziehe ich alle Anwesenden im Raum jeweils in jede Behandlung mit ein und so kommt jeder Teilnehmer insgesamt in den Genuss einer Behandlungszeit von ca. 2 Stunden. \nDa die Themen/Symptome nur kurz benannt werden müssen\, wie z. B. Geldmangel\, Liebeskummer\, Existenzangst\, Gewichtsprobleme\, Kopfschmerzen\, Sexuelle Störungen\, Krebsleiden…u.v.m.\, kann die Intimsphäre trotz Gruppenarbeit geschützt werden\, denn Einzelheiten müssen nicht erzählt und nähere Angaben keine gemacht werden. \nDa die Teilnehmerzahl auf 12 Personen begrenzt ist\, ist eine Anmeldung bei mir erforderlich! Die Anmeldung ist verbindlich! Bei Absage\, egal aus welchen Gründen\, werden die Kosten in voller Höhe in Rechnung gestellt. Gerne kann von dir/von Ihnen eine Ersatzperson geschickt werden. \nKosten: 48\,00 € pro Abend \nEinlass ab 19.00 Uhr
URL:https://www.bayerischer-wirt.de/event/quantenheilung-gruppentherapie-mit-thea-wachtendorf-3/
LOCATION:Bio Hotel Bayerischer Wirt\, Neuburgerstraße 122\, Augsburg\, Bayern\, 86167\, Germany
ATTACH;FMTTYPE=image/jpeg:https://www.bayerischer-wirt.de/wp-content/uploads/2025/08/Thea21-3-5.jpeg
ORGANIZER;CN="Thea Wachtendorf":MAILTO:theamariawachtendorf@web.de
END:VEVENT
END:VCALENDAR