BEGIN:VCALENDAR
VERSION:2.0
PRODID:-//bayerischer-wirt - ECPv6.15.11//NONSGML v1.0//EN
CALSCALE:GREGORIAN
METHOD:PUBLISH
X-WR-CALNAME:bayerischer-wirt
X-ORIGINAL-URL:https://www.bayerischer-wirt.de
X-WR-CALDESC:Veranstaltungen für bayerischer-wirt
REFRESH-INTERVAL;VALUE=DURATION:PT1H
X-Robots-Tag:noindex
X-PUBLISHED-TTL:PT1H
BEGIN:VTIMEZONE
TZID:Europe/Berlin
BEGIN:DAYLIGHT
TZOFFSETFROM:+0100
TZOFFSETTO:+0200
TZNAME:CEST
DTSTART:20240331T010000
END:DAYLIGHT
BEGIN:STANDARD
TZOFFSETFROM:+0200
TZOFFSETTO:+0100
TZNAME:CET
DTSTART:20241027T010000
END:STANDARD
BEGIN:DAYLIGHT
TZOFFSETFROM:+0100
TZOFFSETTO:+0200
TZNAME:CEST
DTSTART:20250330T010000
END:DAYLIGHT
BEGIN:STANDARD
TZOFFSETFROM:+0200
TZOFFSETTO:+0100
TZNAME:CET
DTSTART:20251026T010000
END:STANDARD
BEGIN:DAYLIGHT
TZOFFSETFROM:+0100
TZOFFSETTO:+0200
TZNAME:CEST
DTSTART:20260329T010000
END:DAYLIGHT
BEGIN:STANDARD
TZOFFSETFROM:+0200
TZOFFSETTO:+0100
TZNAME:CET
DTSTART:20261025T010000
END:STANDARD
END:VTIMEZONE
BEGIN:VEVENT
DTSTART;TZID=Europe/Berlin:20251230T190000
DTEND;TZID=Europe/Berlin:20251230T203000
DTSTAMP:20260422T220252
CREATED:20251122T213458Z
LAST-MODIFIED:20251122T213458Z
UID:7240-1767121200-1767126600@www.bayerischer-wirt.de
SUMMARY:Shamanic-Sound-Healing in der Salzgrotte mit Oliver - Schamanische Klangreise mit Jahresübergangs-Ritual + Special
DESCRIPTION:Dezember Special \nSchamanische Klangreise zur Winter-Sonnenwende mit Jahresübergangs-Ritual + Special \nErlebe eine heilsame Klangreise mit Motherdrum\, Sonnen-Gong und kosmischen Klängen \n  \nDie Kunst der schamanischen Alchemie \nIch wirke als schamanischer Alchemist und erschaffe mit kosmischen Klängen & der Kraft der Trommeln\, Energiefelder für Transformation& Heilung. Erlebe eine schamanische Klangreise und tauche ein in den Raum des Quanten-Kosmos\, dort wo alles möglich ist…! \n  \nUrkraft & Lebens-Rhythmus \nFühl die Energie der Klänge &Frequenzen und verbinde Dich wieder mit Deiner inneren Kraft& dem Rhythmus Deines Lebens \nIch freue mich auf Dich! Aho von Herzen – Oliver \nAnmeldung bei Oliver ( 0176/10067967)oder im Bio Hotel Bayerischer Wirt ( 0821/7909750) \nEnergieausgleich: 33€ \nDauer: ca. 90 Minuten
URL:https://www.bayerischer-wirt.de/event/shamanic-sound-healing-in-der-salzgrotte-mit-oliver-schamanische-klangreise-mit-jahresuebergangs-ritual-special/
LOCATION:Salzgrotte Bio Hotel Bayerischer Wirt\, Neuburgerstraße 122\, Augsburg\, Bayern\, 86167\, Germany
ATTACH;FMTTYPE=image/jpeg:https://www.bayerischer-wirt.de/wp-content/uploads/2025/08/c12d14.jpg
ORGANIZER;CN="Oliver L%C3%B6hnert":MAILTO:oliver@shamanic-alchemist.de
END:VEVENT
END:VCALENDAR