BEGIN:VCALENDAR
VERSION:2.0
PRODID:-//bayerischer-wirt - ECPv6.15.11//NONSGML v1.0//EN
CALSCALE:GREGORIAN
METHOD:PUBLISH
X-WR-CALNAME:bayerischer-wirt
X-ORIGINAL-URL:https://www.bayerischer-wirt.de
X-WR-CALDESC:Veranstaltungen für bayerischer-wirt
REFRESH-INTERVAL;VALUE=DURATION:PT1H
X-Robots-Tag:noindex
X-PUBLISHED-TTL:PT1H
BEGIN:VTIMEZONE
TZID:Europe/Berlin
BEGIN:DAYLIGHT
TZOFFSETFROM:+0100
TZOFFSETTO:+0200
TZNAME:CEST
DTSTART:20250330T010000
END:DAYLIGHT
BEGIN:STANDARD
TZOFFSETFROM:+0200
TZOFFSETTO:+0100
TZNAME:CET
DTSTART:20251026T010000
END:STANDARD
BEGIN:DAYLIGHT
TZOFFSETFROM:+0100
TZOFFSETTO:+0200
TZNAME:CEST
DTSTART:20260329T010000
END:DAYLIGHT
BEGIN:STANDARD
TZOFFSETFROM:+0200
TZOFFSETTO:+0100
TZNAME:CET
DTSTART:20261025T010000
END:STANDARD
BEGIN:DAYLIGHT
TZOFFSETFROM:+0100
TZOFFSETTO:+0200
TZNAME:CEST
DTSTART:20270328T010000
END:DAYLIGHT
BEGIN:STANDARD
TZOFFSETFROM:+0200
TZOFFSETTO:+0100
TZNAME:CET
DTSTART:20271031T010000
END:STANDARD
END:VTIMEZONE
BEGIN:VEVENT
DTSTART;TZID=Europe/Berlin:20260130T190000
DTEND;TZID=Europe/Berlin:20260130T210000
DTSTAMP:20260422T202603
CREATED:20260125T135607Z
LAST-MODIFIED:20260125T135817Z
UID:7294-1769799600-1769806800@www.bayerischer-wirt.de
SUMMARY:Erlebnisabend - Rutengehen\, Geomantie & Elektrokultur
DESCRIPTION:Ihr Heim und Garten als Kraftort \nmit Georg Alexander \n\nGeorg Alexander\nGärtnermeister\, Elektrokultur Praktiker\,\nerfahrener Rutengeher \n\nEntdecken Sie\, wie jeder das\nRutengehen erlernen und damit\npositive Energien in den Wohnräumen\nund im eigenen Garten aktivieren kann.\nLernen Sie\, mit einfachen Mitteln aus dem\nBaumarkt kraftvolle Plätze zu schaffen und\ndas Erdmagnetfeld gezielt zu nutzen – für ein\nharmonisches Zuhause und besseres\nPflanzenwachstum.\nTauchen Sie ein in die Welt der Elektrokultur\nund erfahren Sie mehr über diese faszinierende\,\nfast vergessene Gartenbautechnik zum\neffizienten Gärtnern.\nWussten Sie\, dass jeder Mensch von Natur aus\nRutengehen kann?\nFreuen Sie sich auf spannende Einblicke\, alte\nTechniken und unterhaltsame Geschichten über Menschen\, die mit Pflanzen sprechen. \n\nTickets: 20€
URL:https://www.bayerischer-wirt.de/event/erlebnisabend-rutengehen-geomantie-elektrokultur/
LOCATION:Bio Hotel Bayerischer Wirt\, Neuburgerstraße 122\, Augsburg\, Bayern\, 86167\, Germany
ATTACH;FMTTYPE=image/png:https://www.bayerischer-wirt.de/wp-content/uploads/2026/01/flyer_2026-01-30.png
ORGANIZER;CN="Allegro Events":MAILTO:info@allegro-events.com
END:VEVENT
END:VCALENDAR