BEGIN:VCALENDAR
VERSION:2.0
PRODID:-//bayerischer-wirt - ECPv6.15.11//NONSGML v1.0//EN
CALSCALE:GREGORIAN
METHOD:PUBLISH
X-ORIGINAL-URL:https://www.bayerischer-wirt.de
X-WR-CALDESC:Veranstaltungen für bayerischer-wirt
REFRESH-INTERVAL;VALUE=DURATION:PT1H
X-Robots-Tag:noindex
X-PUBLISHED-TTL:PT1H
BEGIN:VTIMEZONE
TZID:Europe/Berlin
BEGIN:DAYLIGHT
TZOFFSETFROM:+0100
TZOFFSETTO:+0200
TZNAME:CEST
DTSTART:20250330T010000
END:DAYLIGHT
BEGIN:STANDARD
TZOFFSETFROM:+0200
TZOFFSETTO:+0100
TZNAME:CET
DTSTART:20251026T010000
END:STANDARD
BEGIN:DAYLIGHT
TZOFFSETFROM:+0100
TZOFFSETTO:+0200
TZNAME:CEST
DTSTART:20260329T010000
END:DAYLIGHT
BEGIN:STANDARD
TZOFFSETFROM:+0200
TZOFFSETTO:+0100
TZNAME:CET
DTSTART:20261025T010000
END:STANDARD
BEGIN:DAYLIGHT
TZOFFSETFROM:+0100
TZOFFSETTO:+0200
TZNAME:CEST
DTSTART:20270328T010000
END:DAYLIGHT
BEGIN:STANDARD
TZOFFSETFROM:+0200
TZOFFSETTO:+0100
TZNAME:CET
DTSTART:20271031T010000
END:STANDARD
END:VTIMEZONE
BEGIN:VEVENT
DTSTART;TZID=Europe/Berlin:20260204T183000
DTEND;TZID=Europe/Berlin:20260204T210000
DTSTAMP:20260422T202732
CREATED:20260125T140442Z
LAST-MODIFIED:20260125T140442Z
UID:7306-1770229800-1770238800@www.bayerischer-wirt.de
SUMMARY:Gesund Leben Vortrag
DESCRIPTION:Elektrosmog\, 5G\, Feinstaub\, Wasser – Fakten\, Risiken & einfache Lösungen! Mit Live-Blut-Dokumentation\nDatum/Zeit\nMittwoch\, 04.02.2026\n18:30 p.m. – 21:00 p.m. \n!! Mehr Vitalität – Besser schlafen – Schneller regenerieren !!\n \n„Elektrosmog\, 5G\, Feinstaub\, Störfelder & Wasser und mögliche Auswirkungen auf\nLeistungsfähigkeit\, Schlaf & Gesundheit – Fakten\, Risiken und Lösungen“\nMit Live-Blut-Dokumentation \nWie Sie Ihren modernen Energievampiren die rote Karte zeigen! \nSie fragen sich auch: \n\nWas hat eine BASISCHE Lebensweise mit Elektrosmog\, 5G\, Handy\, WLAN & Co. zu tun?\nWas sind die neuesten Erkenntnisse der Wissenschaft?\nWie kann ich mich selbst\, meine Lieben oder auch Mitarbeiter wirkungsvoll schützen?\nSind Verzicht oder Einschränkungen in der Nutzung von Smartphones\, Tablets\, Spielekonsolen und Co. wirklich die einzige Möglichkeit\, die schädlichen Auswirkungen auf die Gesundheit gering zu halten?\nWelches Wasser ist das richtige für mich?\n\nMelden Sie sich jetzt an. Alle Teilnehmer erhalten ein tolles Bonus Paket.\nDieser Vortrag kann auch Ihr Leben massiv verändern. \nDie WHO (Weltgesundheitsorganisation) hat Mobilfunkstrahlung bereits im Mai 2011 in die Kategorie\n2 B eingestuft (wie z.B. DDT\, Chloroform\, Auspuffgase). \nMediziner beobachten einen extremen Anstieg schwerer und chronischer Erkrankungen. Immer mehr Menschen klagen über Schlaf- und Konzentrationsstörungen\, Bluthochdruck\, Herzprobleme\, Kopfschmerzen\, Allergien … \nDie entwickelten Lösungen haben sich bereits seit über 2 Jahrzehnten präventiv\, leistungssteigernd und therapiebegleitend bestens bewährt. \nErleben Sie selbst\, warum es sinnvoll ist\, sich diesem Thema zu stellen. \nDie Dunkelfeldmikroskopie zeigt\, wie Handystrahlung die roten Blutkörperchen verklumpen lässt und wie Sie sich schützen können. \nAlle Teilnehmer erhalten eine Maßnahmen-Liste mit wertvollen Tipps. Somit wissen Sie\, was Sie Zuhause tun können\, um Ihr Wohlbefinden in den eigenen vier Wänden zu steigern! \nAufgrund begrenzter Plätze ist eine Anmeldung erforderlich \n\nAnmeldung unter: +49 151 40 70 76 70 per Whatsapp/Signal/Telegram oder tanja@voges-gesundheit.de\nEintritt: kostenfrei
URL:https://www.bayerischer-wirt.de/event/gesund-leben-vortrag/
LOCATION:Bio Hotel Bayerischer Wirt\, Neuburgerstraße 122\, Augsburg\, Bayern\, 86167\, Germany
ORGANIZER;CN="Melina Wagner":MAILTO:wagner-memon@outlook.de
END:VEVENT
END:VCALENDAR