BEGIN:VCALENDAR
VERSION:2.0
PRODID:-//bayerischer-wirt - ECPv6.15.11//NONSGML v1.0//EN
CALSCALE:GREGORIAN
METHOD:PUBLISH
X-ORIGINAL-URL:https://www.bayerischer-wirt.de
X-WR-CALDESC:Veranstaltungen für bayerischer-wirt
REFRESH-INTERVAL;VALUE=DURATION:PT1H
X-Robots-Tag:noindex
X-PUBLISHED-TTL:PT1H
BEGIN:VTIMEZONE
TZID:Europe/Berlin
BEGIN:DAYLIGHT
TZOFFSETFROM:+0100
TZOFFSETTO:+0200
TZNAME:CEST
DTSTART:20250330T010000
END:DAYLIGHT
BEGIN:STANDARD
TZOFFSETFROM:+0200
TZOFFSETTO:+0100
TZNAME:CET
DTSTART:20251026T010000
END:STANDARD
BEGIN:DAYLIGHT
TZOFFSETFROM:+0100
TZOFFSETTO:+0200
TZNAME:CEST
DTSTART:20260329T010000
END:DAYLIGHT
BEGIN:STANDARD
TZOFFSETFROM:+0200
TZOFFSETTO:+0100
TZNAME:CET
DTSTART:20261025T010000
END:STANDARD
BEGIN:DAYLIGHT
TZOFFSETFROM:+0100
TZOFFSETTO:+0200
TZNAME:CEST
DTSTART:20270328T010000
END:DAYLIGHT
BEGIN:STANDARD
TZOFFSETFROM:+0200
TZOFFSETTO:+0100
TZNAME:CET
DTSTART:20271031T010000
END:STANDARD
END:VTIMEZONE
BEGIN:VEVENT
DTSTART;VALUE=DATE:20260214
DTEND;VALUE=DATE:20260216
DTSTAMP:20260422T202727
CREATED:20260130T130811Z
LAST-MODIFIED:20260130T131440Z
UID:7404-1771027200-1771199999@www.bayerischer-wirt.de
SUMMARY:Geheimnisse der inneren Erde – Vortrag & Seminar
DESCRIPTION:mit Dipl.-Ing. Lothar Lauer \n \n14.–15. Februar 2026 | Augsburg \n\nErlebe ein außergewöhnliches Wochenende mit Dipl.-Ing. Lothar Lauer\, der neue und alternative Perspektiven auf den Aufbau der Erde und das menschliche Bewusstsein eröffnet. \nIn seinem Vortrag am Samstag widmet sich Lothar Lauer den Geheimnissen der inneren Erde und beleuchtet Theorien und Erfahrungsberichte\, die über das klassische geophysikalische Weltbild hinausgehen. Dabei thematisiert er unter anderem verborgene Ebenen unseres Planeten\, frühere Hochkulturen sowie höhere Bewusstseinsdimensionen. \nAm Sonntag folgt ein Halbtagesseminar\, in dem ein praxisorientiertes Werkzeug vorgestellt wird. Dieses kann zur bewussten Harmonisierung von Lebensräumen\, Nahrungsmitteln und Trinkwasser eingesetzt werden. \nThemenschwerpunkte: \n\nAlternativer Aufbau der Erde\nBewusstsein & Dimensionen\nEnergetische Harmonisierung von Räumen\nPraktische Anwendung im Alltag\n\n\n👉 Jetzt anmelden unter AugsburgGruesse@web.de \n\nSamstag\, 14. Februar 2026 \nVortrag: Geheimnisse der inneren Erde \n\nDer wahre Aufbau der Erde\nVerborgene Welten im Erdinneren\nVergessene und fortbestehende Zivilisationen\nDie 5. Dimension und ihre Bedeutung für uns heute\n\n(inkl. Fragerunde) \n\nSonntag\, 15. Februar 2026 \nHalbtagesseminar: Heilung & Harmonisierung \n\nSchutz und Heilung von Wohn- und Lebensräumen\nHarmonisierung von Nahrungsmitteln\nEnergetische Aufbereitung von Trinkwasser\nPraktische Anwendung des vermittelten Werkzeugs\n\n\nDieses Wochenende richtet sich an Menschen\, die offen sind für neue Perspektiven\, spirituelle Erfahrungen und alternative Sichtweisen jenseits etablierter Lehrmeinungen. \nDie Inhalte dieser Veranstaltung beruhen auf spirituellen und persönlichen Erfahrungswerten des Referenten und stellen keine wissenschaftlich anerkannten Lehrmeinungen dar. \nOder kürzer \nGeheimnisse der inneren Erde \n📅 14.–15. Februar 2026 | 📍 Augsburg \nWas verbirgt sich tief unter unseren Füßen? \nDipl.-Ing. Lothar Lauer nimmt uns mit auf eine außergewöhnliche Reise jenseits bekannter Weltbilder. \n✨ Vortrag am Samstag \n✨ Halbtagesseminar am Sonntag \n✨ Praktische Werkzeuge für den Alltag \n👉 Infos & Anmeldung: AugsburgGruesse@web.de
URL:https://www.bayerischer-wirt.de/event/geheimnisse-der-inneren-erde-vortrag-seminar/
LOCATION:Bio Hotel Bayerischer Wirt\, Neuburgerstraße 122\, Augsburg\, Bayern\, 86167\, Germany
ATTACH;FMTTYPE=image/png:https://www.bayerischer-wirt.de/wp-content/uploads/2026/01/Centa-Winter.png
ORGANIZER;CN="Centa Winter":MAILTO:AugsburgGruesse@web.de
END:VEVENT
BEGIN:VEVENT
DTSTART;TZID=Europe/Berlin:20260214T100000
DTEND;TZID=Europe/Berlin:20260214T180000
DTSTAMP:20260422T202727
CREATED:20260125T141640Z
LAST-MODIFIED:20260125T141640Z
UID:7315-1771063200-1771092000@www.bayerischer-wirt.de
SUMMARY:Entschleunigungstag im Gesundheitszentrum
DESCRIPTION:Jeden 2. und 4. Samstag im Monat\nBei der Buchung von einer der folgenden Anwendungen erhalten Sie zur Entschleunigung an diesem Tag eine Salzgrotten- und eine Salzsaunasitzung gratis dazu. \nEntschleunigen und Ruhe finden\, und das mit gratis Salzgrotten- und Salzsaunasitzung!\nIdeal auch für eine kurze Auszeit zwischendurch. \nBitte melden Sie sich für den Entschleunigungstag vorher bei uns an. \nBuchbare Anwendungen: \nGanzkörperentspannungsmassage 50 min. / 80 min. \nAroma-Touch-Massage 50 min. \nTibetische Kräuterstempelmassage 90 min. \nBio-Lifting Pharmos Natur Kosmetik 50 min. \nAnti-Stress-Face Pharmos Natur Kosmetik 50 min. / 80 min. inkl. Arm- und Beinbehandlung \nDetox Face Pharmos Natur Kosmetik 50 min. / 80 min. \nLove your Age Pharmos Natur Kosmetik 80 min. \nAnti Stress Body Körperbehandlung 90 min. \nDetox Body Körperbehandlung 90 min.
URL:https://www.bayerischer-wirt.de/event/entschleunigungstag-im-gesundheitszentrum-17/
LOCATION:Gesundheitszentrum Bio Hotel Bayerischer Wirt\, Neuburgerstraße 122\, Augsburg\, Bayern\, 86167\, Germany
ATTACH;FMTTYPE=image/jpeg:https://www.bayerischer-wirt.de/wp-content/uploads/2024/03/Entschleunigungs.jpg
ORGANIZER;CN="Bio Hotel Bayerischer Wirt":MAILTO:info@bayerischer-wirt.de
END:VEVENT
END:VCALENDAR