BEGIN:VCALENDAR
VERSION:2.0
PRODID:-//bayerischer-wirt - ECPv6.15.11//NONSGML v1.0//EN
CALSCALE:GREGORIAN
METHOD:PUBLISH
X-ORIGINAL-URL:https://www.bayerischer-wirt.de
X-WR-CALDESC:Veranstaltungen für bayerischer-wirt
REFRESH-INTERVAL;VALUE=DURATION:PT1H
X-Robots-Tag:noindex
X-PUBLISHED-TTL:PT1H
BEGIN:VTIMEZONE
TZID:Europe/Berlin
BEGIN:DAYLIGHT
TZOFFSETFROM:+0100
TZOFFSETTO:+0200
TZNAME:CEST
DTSTART:20250330T010000
END:DAYLIGHT
BEGIN:STANDARD
TZOFFSETFROM:+0200
TZOFFSETTO:+0100
TZNAME:CET
DTSTART:20251026T010000
END:STANDARD
BEGIN:DAYLIGHT
TZOFFSETFROM:+0100
TZOFFSETTO:+0200
TZNAME:CEST
DTSTART:20260329T010000
END:DAYLIGHT
BEGIN:STANDARD
TZOFFSETFROM:+0200
TZOFFSETTO:+0100
TZNAME:CET
DTSTART:20261025T010000
END:STANDARD
BEGIN:DAYLIGHT
TZOFFSETFROM:+0100
TZOFFSETTO:+0200
TZNAME:CEST
DTSTART:20270328T010000
END:DAYLIGHT
BEGIN:STANDARD
TZOFFSETFROM:+0200
TZOFFSETTO:+0100
TZNAME:CET
DTSTART:20271031T010000
END:STANDARD
END:VTIMEZONE
BEGIN:VEVENT
DTSTART;TZID=Europe/Berlin:20260219T200000
DTEND;TZID=Europe/Berlin:20260219T213000
DTSTAMP:20260422T202744
CREATED:20260125T142243Z
LAST-MODIFIED:20260125T142243Z
UID:7328-1771531200-1771536600@www.bayerischer-wirt.de
SUMMARY:Märchen \,\, Die Schneekönigin"
DESCRIPTION:Spannende Geschichte mit Botschaft –\nHier kommt alles zusammen: Spannende Geschichte\, gute Botschaft und besondere Figuren! Eine böse Schneekönigin\, Zauberinnen\, Räuber\, sprechende Raben … \nMatthias Fischer erweckt sie alle zum Leben\, erzählt akzentuiert und lebhaft inmitten der Besucher\, die mit ihren Gedanken ganz bei Kai und Gerda sind. \nDeren Freundschaft ist gefordert\, als die eigensüchtige Schneekönigin Kai entführt. Wenn er nur nicht diese teuflischen Spiegelsplitter im Herzen hätte … Die mutige Gerda macht sich auf die Suche nach Kai. Dabei gerät sie nicht nur an die erwähnten Zauberinnen\, Räuber und Krähen. Zum Glück begegnet Gerda auch einer hilfsbereiten Prinzessin … \nGenießt die kuschelige Wärme der Salzgrotte und taucht ein in H.C. Andersens Märchen um Treue und Freundschaft! Die Salzgrotte im Biohotel Bayerischer Wirt bildet den besonderen Raum für das Klang- und Erzähl-Erlebnis. \n  \n\nVeranstaltungsinformationen\n\n\n\nDatum und Uhrzeit:\n\n\n\n\n19. Februar 2026 – 20:00 – 21:30\n\n\n\n\n\n\nEinlass erst 10 Minuten vor Beginn der Vorstellung!
URL:https://www.bayerischer-wirt.de/event/maerchen-die-schneekoenigin/
LOCATION:Salzgrotte Bio Hotel Bayerischer Wirt\, Neuburgerstraße 122\, Augsburg\, Bayern\, 86167\, Germany
ATTACH;FMTTYPE=image/jpeg:https://www.bayerischer-wirt.de/wp-content/uploads/2025/01/143633_event_md_975.jpg
END:VEVENT
END:VCALENDAR