BEGIN:VCALENDAR
VERSION:2.0
PRODID:-//bayerischer-wirt - ECPv6.15.11//NONSGML v1.0//EN
CALSCALE:GREGORIAN
METHOD:PUBLISH
X-ORIGINAL-URL:https://www.bayerischer-wirt.de
X-WR-CALDESC:Veranstaltungen für bayerischer-wirt
REFRESH-INTERVAL;VALUE=DURATION:PT1H
X-Robots-Tag:noindex
X-PUBLISHED-TTL:PT1H
BEGIN:VTIMEZONE
TZID:Europe/Berlin
BEGIN:DAYLIGHT
TZOFFSETFROM:+0100
TZOFFSETTO:+0200
TZNAME:CEST
DTSTART:20250330T010000
END:DAYLIGHT
BEGIN:STANDARD
TZOFFSETFROM:+0200
TZOFFSETTO:+0100
TZNAME:CET
DTSTART:20251026T010000
END:STANDARD
BEGIN:DAYLIGHT
TZOFFSETFROM:+0100
TZOFFSETTO:+0200
TZNAME:CEST
DTSTART:20260329T010000
END:DAYLIGHT
BEGIN:STANDARD
TZOFFSETFROM:+0200
TZOFFSETTO:+0100
TZNAME:CET
DTSTART:20261025T010000
END:STANDARD
BEGIN:DAYLIGHT
TZOFFSETFROM:+0100
TZOFFSETTO:+0200
TZNAME:CEST
DTSTART:20270328T010000
END:DAYLIGHT
BEGIN:STANDARD
TZOFFSETFROM:+0200
TZOFFSETTO:+0100
TZNAME:CET
DTSTART:20271031T010000
END:STANDARD
END:VTIMEZONE
BEGIN:VEVENT
DTSTART;TZID=Europe/Berlin:20260323T193000
DTEND;TZID=Europe/Berlin:20260323T210000
DTSTAMP:20260422T185659
CREATED:20260127T130752Z
LAST-MODIFIED:20260127T130803Z
UID:7373-1774294200-1774299600@www.bayerischer-wirt.de
SUMMARY:Releasing Abend mit Aki Brutscher\, Belinda & Nikos
DESCRIPTION: LiveTransformation & Heilklängen mit Belinda und Nikos im wundervollen BIO Hotel Bayrischer Wirt in Augsburg \nWir starten wie immer um 18 Uhr mit einem gemeinsamen Abendessen im BIO Restaurant. \nSeid dafür bitte frühzeitig da. Um 19.15 h gehen wir zusammen in die Salzgrotte\, wo wir dann um 19.30 Uhr mit dem energetischen Heilabend starten. \nEs dauert ungefähr bis 21.15 Uhr. Dann könnt ihr wieder nach HAUSE düsen\, oder gleich im BIO Hotel übernachten. \nBitte schreibt mir an meine WhatsApp 00491702963111 wenn ihr gerne dabei sein wollt. Oder bucht bei der Belinda. \nDanke an die liebe Familie Friedl\, dass sie uns auch in 2025 wieder so gerne aufnehmen. \nHier die Termine. Tragt sie Euch bitte gerne ein. \nMärz = Mo 31.3. //\nMai = Mo 26.5. //\nJuli = Mo 21.7. //\nSept=. Mo 29.9. //\nNov=. Mo. 24.11.2025 \nAusgleich pro Person: 50 Euro \nWir freuen uns auf Euch. \nEuer Aki\, Belinda und Nikos
URL:https://www.bayerischer-wirt.de/event/releasing-abend-mit-aki-brutscher-belinda-nikos-5/
LOCATION:Salzgrotte Bio Hotel Bayerischer Wirt\, Neuburgerstraße 122\, Augsburg\, Bayern\, 86167\, Germany
ATTACH;FMTTYPE=image/jpeg:https://www.bayerischer-wirt.de/wp-content/uploads/2025/01/WhatsApp-Bild-2025-01-18-um-11.57.23_2d8990b5.jpg
ORGANIZER;CN="Aki Brutschner":MAILTO:aki.brutscher@gmx.de
END:VEVENT
END:VCALENDAR