BEGIN:VCALENDAR
VERSION:2.0
PRODID:-//bayerischer-wirt - ECPv6.15.11//NONSGML v1.0//EN
CALSCALE:GREGORIAN
METHOD:PUBLISH
X-WR-CALNAME:bayerischer-wirt
X-ORIGINAL-URL:https://www.bayerischer-wirt.de
X-WR-CALDESC:Veranstaltungen für bayerischer-wirt
REFRESH-INTERVAL;VALUE=DURATION:PT1H
X-Robots-Tag:noindex
X-PUBLISHED-TTL:PT1H
BEGIN:VTIMEZONE
TZID:Europe/Berlin
BEGIN:DAYLIGHT
TZOFFSETFROM:+0100
TZOFFSETTO:+0200
TZNAME:CEST
DTSTART:20250330T010000
END:DAYLIGHT
BEGIN:STANDARD
TZOFFSETFROM:+0200
TZOFFSETTO:+0100
TZNAME:CET
DTSTART:20251026T010000
END:STANDARD
BEGIN:DAYLIGHT
TZOFFSETFROM:+0100
TZOFFSETTO:+0200
TZNAME:CEST
DTSTART:20260329T010000
END:DAYLIGHT
BEGIN:STANDARD
TZOFFSETFROM:+0200
TZOFFSETTO:+0100
TZNAME:CET
DTSTART:20261025T010000
END:STANDARD
BEGIN:DAYLIGHT
TZOFFSETFROM:+0100
TZOFFSETTO:+0200
TZNAME:CEST
DTSTART:20270328T010000
END:DAYLIGHT
BEGIN:STANDARD
TZOFFSETFROM:+0200
TZOFFSETTO:+0100
TZNAME:CET
DTSTART:20271031T010000
END:STANDARD
END:VTIMEZONE
BEGIN:VEVENT
DTSTART;TZID=Europe/Berlin:20260413T190000
DTEND;TZID=Europe/Berlin:20260413T200000
DTSTAMP:20260422T170325
CREATED:20260319T104101Z
LAST-MODIFIED:20260319T104101Z
UID:7430-1776106800-1776110400@www.bayerischer-wirt.de
SUMMARY:Heilklangsession in der Salzgrotte
DESCRIPTION:Berührende Stimme und erdiges Didgeridoo\, durchwebt mit feinen Klanginstrumenten\, laden zu einer entspannenden Heil-Klangreise ein. \nBelinda & Nikos \,\,Almavolar“ \nPreis: 25€ Erwachsene\, 11€ Kinder bis 12 Jahre\, 15€ bis 18 Jahre inkl. Salzgrotten-Eintritt \nAnmeldung erforderlich. \nAnmeldung bitte an der Rezeption unter: 0821/7909750
URL:https://www.bayerischer-wirt.de/event/heilklangsession-in-der-salzgrotte-12/
LOCATION:Salzgrotte Bio Hotel Bayerischer Wirt\, Neuburgerstraße 122\, Augsburg\, Bayern\, 86167\, Germany
ATTACH;FMTTYPE=image/png:https://www.bayerischer-wirt.de/wp-content/uploads/2025/01/Screenshot-2025-01-08-at-14-11-08-Heilklangsession-in-der-Salzgrotte-Aktuelle-Termine-Alma-Volar.png
END:VEVENT
END:VCALENDAR