BEGIN:VCALENDAR
VERSION:2.0
PRODID:-//bayerischer-wirt - ECPv6.15.11//NONSGML v1.0//EN
CALSCALE:GREGORIAN
METHOD:PUBLISH
X-WR-CALNAME:bayerischer-wirt
X-ORIGINAL-URL:https://www.bayerischer-wirt.de
X-WR-CALDESC:Veranstaltungen für bayerischer-wirt
REFRESH-INTERVAL;VALUE=DURATION:PT1H
X-Robots-Tag:noindex
X-PUBLISHED-TTL:PT1H
BEGIN:VTIMEZONE
TZID:Europe/Berlin
BEGIN:DAYLIGHT
TZOFFSETFROM:+0100
TZOFFSETTO:+0200
TZNAME:CEST
DTSTART:20250330T010000
END:DAYLIGHT
BEGIN:STANDARD
TZOFFSETFROM:+0200
TZOFFSETTO:+0100
TZNAME:CET
DTSTART:20251026T010000
END:STANDARD
BEGIN:DAYLIGHT
TZOFFSETFROM:+0100
TZOFFSETTO:+0200
TZNAME:CEST
DTSTART:20260329T010000
END:DAYLIGHT
BEGIN:STANDARD
TZOFFSETFROM:+0200
TZOFFSETTO:+0100
TZNAME:CET
DTSTART:20261025T010000
END:STANDARD
BEGIN:DAYLIGHT
TZOFFSETFROM:+0100
TZOFFSETTO:+0200
TZNAME:CEST
DTSTART:20270328T010000
END:DAYLIGHT
BEGIN:STANDARD
TZOFFSETFROM:+0200
TZOFFSETTO:+0100
TZNAME:CET
DTSTART:20271031T010000
END:STANDARD
END:VTIMEZONE
BEGIN:VEVENT
DTSTART;TZID=Europe/Berlin:20260423T190000
DTEND;TZID=Europe/Berlin:20260423T200000
DTSTAMP:20260423T020328
CREATED:20260319T105143Z
LAST-MODIFIED:20260319T105144Z
UID:7447-1776970800-1776974400@www.bayerischer-wirt.de
SUMMARY:Klangschalenerlebnis in der Salzgrotte mit Petra Ablaß
DESCRIPTION:Klangschalenerlebnis für Körper\, Geist und Seele \nDurch sanftes Anschlagen von Klangschalen\, Gong und Zimbel wird das Wasser in jeder Zelle zum Schwingen gebracht. \nDie meditativen Klänge durchströmen den gesamten Körper und bringen die disharmonisch schwingenden Zellen wieder in ihre natürliche Ordnung. \nDie Schwingungen der Klangschalen haben eine ausgleichende Wirkung auf unser Körpersystem und unser Gehirn. Die Puls- und Atemfrequenz wird gesenkt und führt zu tiefer Entspannung und körperlichem Wohlbefinden. \nSeelische Blockaden können sich lösen. Die Selbstheilungskräfte werden angeregt. \nPreis: 18€ pro Person \nEinzelsitzungen oder Gruppenbuchungen können auf Anfrage auch gebucht werden.
URL:https://www.bayerischer-wirt.de/event/klangschalenerlebnis-in-der-salzgrotte-mit-petra-ablass-14/
LOCATION:Salzgrotte Bio Hotel Bayerischer Wirt\, Neuburgerstraße 122\, Augsburg\, Bayern\, 86167\, Germany
ATTACH;FMTTYPE=image/jpeg:https://www.bayerischer-wirt.de/wp-content/uploads/2024/03/Salzgrotte-2.jpg
ORGANIZER;CN="Petra Abla%C3%9F":MAILTO:petra_ablass@t-online.de
END:VEVENT
END:VCALENDAR