BEGIN:VCALENDAR
VERSION:2.0
PRODID:-//bayerischer-wirt - ECPv6.15.11//NONSGML v1.0//EN
CALSCALE:GREGORIAN
METHOD:PUBLISH
X-ORIGINAL-URL:https://www.bayerischer-wirt.de
X-WR-CALDESC:Veranstaltungen für bayerischer-wirt
REFRESH-INTERVAL;VALUE=DURATION:PT1H
X-Robots-Tag:noindex
X-PUBLISHED-TTL:PT1H
BEGIN:VTIMEZONE
TZID:Europe/Berlin
BEGIN:DAYLIGHT
TZOFFSETFROM:+0100
TZOFFSETTO:+0200
TZNAME:CEST
DTSTART:20250330T010000
END:DAYLIGHT
BEGIN:STANDARD
TZOFFSETFROM:+0200
TZOFFSETTO:+0100
TZNAME:CET
DTSTART:20251026T010000
END:STANDARD
BEGIN:DAYLIGHT
TZOFFSETFROM:+0100
TZOFFSETTO:+0200
TZNAME:CEST
DTSTART:20260329T010000
END:DAYLIGHT
BEGIN:STANDARD
TZOFFSETFROM:+0200
TZOFFSETTO:+0100
TZNAME:CET
DTSTART:20261025T010000
END:STANDARD
BEGIN:DAYLIGHT
TZOFFSETFROM:+0100
TZOFFSETTO:+0200
TZNAME:CEST
DTSTART:20270328T010000
END:DAYLIGHT
BEGIN:STANDARD
TZOFFSETFROM:+0200
TZOFFSETTO:+0100
TZNAME:CET
DTSTART:20271031T010000
END:STANDARD
END:VTIMEZONE
BEGIN:VEVENT
DTSTART;TZID=Europe/Berlin:20260228T100000
DTEND;TZID=Europe/Berlin:20260301T190000
DTSTAMP:20260422T173318
CREATED:20260125T142543Z
LAST-MODIFIED:20260125T142642Z
UID:7334-1772272800-1772391600@www.bayerischer-wirt.de
SUMMARY:Praxisseminar - Rutengehen & Krafttürme
DESCRIPTION:Rutengehen &\nKrafttürme\nEntstörung & Harmonisierung\nvon Wohnung\, Haus und Garten \nTanja & Tobias\naus dem Team von Georg R. Alexander \nEntdecke die Welt feinstofflicher\nEnergien und lerne\, wie Du sie mit\nder Rute sichtbar machst.\nWorkshop-Inhalte:\n• Grundlagen des Rutengehens und\nsicherer Umgang mit der Rute\n• Energien in Haus\, Wohnung und Natur\nerkennen und harmonisieren\n• Wirkung des Erdmagnetfelds verstehen\n• Alltagstaugliche Anwendung für mehr\nBalance und Wohlbefinden\n• Gemeinsamer Bau eines Kraftturms und\nVerständnis seiner Wirkung\nDu erlebst alle Techniken direkt in der Praxis und\nweißt danach\, wie Du mit einfachen Mitteln\ngezielt Energie und Schwingung für Wohnraum\,\nArbeitsplatz und Garten erzeugst.\nEin praxisnaher Workshop\, der altes Wissen mit\nmoderner Wahrnehmung verbindet. \n  \nTicket: 280€ | 510€ für Paare inkl. Buch
URL:https://www.bayerischer-wirt.de/event/praxisseminar-rutengehen-krafttuerme/
LOCATION:Bio Hotel Bayerischer Wirt\, Neuburgerstraße 122\, Augsburg\, Bayern\, 86167\, Germany
ATTACH;FMTTYPE=image/png:https://www.bayerischer-wirt.de/wp-content/uploads/2026/01/flyer_2026-02-28_2.png
ORGANIZER;CN="Allegro Events":MAILTO:info@allegro-events.com
END:VEVENT
BEGIN:VEVENT
DTSTART;VALUE=DATE:20260306
DTEND;VALUE=DATE:20260309
DTSTAMP:20260422T173318
CREATED:20260127T130328Z
LAST-MODIFIED:20260127T130328Z
UID:7366-1772755200-1773014399@www.bayerischer-wirt.de
SUMMARY:Selfcare & Mind Detox Retreat
DESCRIPTION:Annabell Reinhard\n\n\n\n\nSelfcare & Mind Detox Retreat 6.- 8. März 2026\n\n\n1 Std\n\n\n\nBiohotel Bayerischer Wirt Augsburg \nNeuburger Straße 122\, 86167 Augsburg \n\n\n\n\nEntspannung auf allen Ebenen: \nDeine perfekte Auszeit für heilsame Transformation von 6.-8. März 2026 in Augsburg. \n\n3 Tage lang Entschleunigung\, Ruhe\, Entspannung und tiefer Mind- Detox. Dein Gedankenkarussell darf zur Ruhe kommen\, die Last des Alltags abgestreift werden und dein Körper und dein Geist dürfen zur Ruhe und in ihre ureigene Kraft finden. \n\nInklusivleistungen: \n\n3 sanfte Yogastunden\n3 Energerische Heilanwendungen\nImpulse für innere Ruhe im Alltag\nAchtsamkeitsmeditation\nAuszeit in der hoteleigenen Salzgrotte\nEntspannung im hoteleigenen\nWellnessbereich\nBeste Küche in zertifizierter\nBioqualität\n\nDen genauen Zeitplan und Infos zur Retreatleitung findest du hier: https://www.instagram.com/mind_and_soulcare_reinhard?igsh=MTI5ZzVtcmh0bGZxNg== \n\nMehr Infos zum Biohotels Bayerischer Wirt in Augsburg findest du hier: https://www.bayerischer-wirt.de/ \nÜbernachtung\, Verpflegung und bei Wunsch Massage- oder Kosmetikanwendung werden direkt über das Hotel Bayrischer Wirt in Augsburg gebucht. \n\nDeine Investition für das Selfcare & Mind Detox Retreat: 370 Euro. \nMindestteilnehmerzahl: 6 Personen. \n\nZur Buchung einfach auf den 6. März klicken\, es sind alle drei Tage inbegriffen. Nach der Buchung nehme ich Kontakt mit dir auf. \n\nIhr geht’s zu deinem transformierenden Entspannungs-Erlebnis! \n\nLasst es euch gut gehen- \nIch bin gerne für euch da! \nEure Annabell
URL:https://www.bayerischer-wirt.de/event/selfcare-mind-detox-retreat-2/
LOCATION:Bio Hotel Bayerischer Wirt\, Neuburgerstraße 122\, Augsburg\, Bayern\, 86167\, Germany
ATTACH;FMTTYPE=image/jpeg:https://www.bayerischer-wirt.de/wp-content/uploads/2025/10/Download.jpg
END:VEVENT
BEGIN:VEVENT
DTSTART;TZID=Europe/Berlin:20260308T170000
DTEND;TZID=Europe/Berlin:20260308T183000
DTSTAMP:20260422T173318
CREATED:20260125T143317Z
LAST-MODIFIED:20260125T143317Z
UID:7346-1772989200-1772994600@www.bayerischer-wirt.de
SUMMARY:Jin Shin Jyutsu Strömabend in der Salzgrotte
DESCRIPTION:Strömabende mit Petra Weber – Vital Coaching: \nbieten eine gute Einstiegsmöglichkeit zum Üben und Kennenlernen des Jin Shin Jyutsu und des eigenen Körpers in entspannter Atmosphäre. Hier strömen sich die Teilnehmer unter Anleitung selbst. \n\,\, Strömen ist müheloses\, absichtsloses Tun. Es ist\, wie es ist.“ ( Jiro Murai) \nJin Shin Jyutsu ist eine mehrere tausend Jahre alte Kunst zur Harmonisierung der Lebensenergie im Körper. \nSeele – Geist – Körper harmonisieren. \nUnsere Lebensweise bewirkt häufig eine Stagnation des Energieflusses\, auf die wir mit Stress\, Verspannung\, Schmerzen\, Kraftlosigkeit\, seelischen Krisen oder auch mit körperlicher Krankheit reagieren. Die Kunst fördert und begünstigt auf diese Weise den Prozess der Bewusst- und Heilwerdung. \nDauer: ca. 1 Stunde \nKosten: 25€ inkl. Salzgrotteneintritt \nVoraussetzungen: Keine Vorkenntnisse nötig\, Einstieg jederzeit möglich \nMitzubringen: extra weiße Socken\, bequeme Kleidung \nAnmeldung: bitte telefonisch oder per Email
URL:https://www.bayerischer-wirt.de/event/jin-shin-jyutsu-stroemabend-in-der-salzgrotte-24/
LOCATION:Salzgrotte Bio Hotel Bayerischer Wirt\, Neuburgerstraße 122\, Augsburg\, Bayern\, 86167\, Germany
ATTACH;FMTTYPE=image/jpeg:https://www.bayerischer-wirt.de/wp-content/uploads/2025/01/foto-blume-at.jpg
ORGANIZER;CN="Petra Weber":MAILTO:mail@jsj-vital-coaching.de
END:VEVENT
BEGIN:VEVENT
DTSTART;TZID=Europe/Berlin:20260309T190000
DTEND;TZID=Europe/Berlin:20260309T200000
DTSTAMP:20260422T173318
CREATED:20260125T143348Z
LAST-MODIFIED:20260125T143348Z
UID:7348-1773082800-1773086400@www.bayerischer-wirt.de
SUMMARY:Heilklangsession in der Salzgrotte
DESCRIPTION:Berührende Stimme und erdiges Didgeridoo\, durchwebt mit feinen Klanginstrumenten\, laden zu einer entspannenden Heil-Klangreise ein. \nBelinda & Nikos \,\,Almavolar“ \nPreis: 25€ Erwachsene\, 11€ Kinder bis 12 Jahre\, 15€ bis 18 Jahre inkl. Salzgrotten-Eintritt \nAnmeldung erforderlich. \nAnmeldung bitte an der Rezeption unter: 0821/7909750
URL:https://www.bayerischer-wirt.de/event/heilklangsession-in-der-salzgrotte-11/
LOCATION:Salzgrotte Bio Hotel Bayerischer Wirt\, Neuburgerstraße 122\, Augsburg\, Bayern\, 86167\, Germany
ATTACH;FMTTYPE=image/png:https://www.bayerischer-wirt.de/wp-content/uploads/2025/01/Screenshot-2025-01-08-at-14-11-08-Heilklangsession-in-der-Salzgrotte-Aktuelle-Termine-Alma-Volar.png
END:VEVENT
BEGIN:VEVENT
DTSTART;TZID=Europe/Berlin:20260313T190000
DTEND;TZID=Europe/Berlin:20260313T203000
DTSTAMP:20260422T173318
CREATED:20260125T143428Z
LAST-MODIFIED:20260125T143428Z
UID:7350-1773428400-1773433800@www.bayerischer-wirt.de
SUMMARY:Shamanic-Sound-Healing in der Salzgrotte mit Oliver
DESCRIPTION:Erlebe eine heilsame Klangreise mit Motherdrum\, Sonnen-Gong und kosmischen Klängen \n  \nDie Kunst der schamanischen Alchemie \nIch wirke als schamanischer Alchemist und erschaffe mit kosmischen Klängen & der Kraft der Trommeln\, Energiefelder für Transformation& Heilung. Erlebe eine schamanische Klangreise und tauche ein in den Raum des Quanten-Kosmos\, dort wo alles möglich ist…! \n  \nUrkraft & Lebens-Rhythmus \nFühl die Energie der Klänge &Frequenzen und verbinde Dich wieder mit Deiner inneren Kraft& dem Rhythmus Deines Lebens \nIch freue mich auf Dich! Aho von Herzen – Oliver \nAnmeldung bei Oliver ( 0176/10067967)oder im Bio Hotel Bayerischer Wirt ( 0821/7909750) \nEnergieausgleich: 22€ \nDauer: ca. 90 Minuten
URL:https://www.bayerischer-wirt.de/event/shamanic-sound-healing-in-der-salzgrotte-mit-oliver-4/
LOCATION:Salzgrotte Bio Hotel Bayerischer Wirt\, Neuburgerstraße 122\, Augsburg\, Bayern\, 86167\, Germany
ATTACH;FMTTYPE=image/jpeg:https://www.bayerischer-wirt.de/wp-content/uploads/2025/08/c12d14.jpg
ORGANIZER;CN="Oliver L%C3%B6hnert":MAILTO:oliver@shamanic-alchemist.de
END:VEVENT
BEGIN:VEVENT
DTSTART;TZID=Europe/Berlin:20260314T090000
DTEND;TZID=Europe/Berlin:20260314T200000
DTSTAMP:20260422T173318
CREATED:20260125T142804Z
LAST-MODIFIED:20260125T142901Z
UID:7338-1773478800-1773518400@www.bayerischer-wirt.de
SUMMARY:Praxisseminar - Elektrokultur 2.0.
DESCRIPTION:Elektrokultur 2.0\nTraditionelles Gartenwissen\nneu entdecken \n\nGeorg Alexander\nGärtnermeister\, Elektrokultur Praktiker\,\nerfahrener Rutengeher \n\nIch zeige Dir die Grundlagen der\nElektrokultur\, die im Zusammenspiel\nvon Erdmagnetismus\, Atmosphäre und\nBoden funktioniert und überall und\neinfach umsetzbar ist.\nDu erfährst\, wie Du Beerensträucher\npflanzst\, vermehrst und pflegst\, Obstbäume\nstärkst und Krankheitsprophylaxe betreibst.\nWelche unbekannten Dauergemüse gibt es?\nEinmal setzen und laufend ernten!\nIn nur 3 Monaten zum hochwertigen\, reifen\nHumus? Kompostaufbau mit dem PlocherSystem neu gedacht!\nSpannende Einblicke und praktisches\nGärtnerwissen für den Einklang mit den\nnatürlichen Kräften der Natur. \nTicket: 140€ | Paare: 260€
URL:https://www.bayerischer-wirt.de/event/praxisseminar-elektrokultur-2-0/
LOCATION:Bio Hotel Bayerischer Wirt\, Neuburgerstraße 122\, Augsburg\, Bayern\, 86167\, Germany
ATTACH;FMTTYPE=image/png:https://www.bayerischer-wirt.de/wp-content/uploads/2026/01/flyer_2026-03-14.png
ORGANIZER;CN="Allegro Events":MAILTO:info@allegro-events.com
END:VEVENT
BEGIN:VEVENT
DTSTART;TZID=Europe/Berlin:20260314T100000
DTEND;TZID=Europe/Berlin:20260314T180000
DTSTAMP:20260422T173318
CREATED:20260125T143054Z
LAST-MODIFIED:20260125T143054Z
UID:7342-1773482400-1773511200@www.bayerischer-wirt.de
SUMMARY:Entschleunigungstag im Gesundheitszentrum
DESCRIPTION:Jeden 2. und 4. Samstag im Monat\nBei der Buchung von einer der folgenden Anwendungen erhalten Sie zur Entschleunigung an diesem Tag eine Salzgrotten- und eine Salzsaunasitzung gratis dazu. \nEntschleunigen und Ruhe finden\, und das mit gratis Salzgrotten- und Salzsaunasitzung!\nIdeal auch für eine kurze Auszeit zwischendurch. \nBitte melden Sie sich für den Entschleunigungstag vorher bei uns an. \nBuchbare Anwendungen: \nGanzkörperentspannungsmassage 50 min. / 80 min. \nAroma-Touch-Massage 50 min. \nTibetische Kräuterstempelmassage 90 min. \nBio-Lifting Pharmos Natur Kosmetik 50 min. \nAnti-Stress-Face Pharmos Natur Kosmetik 50 min. / 80 min. inkl. Arm- und Beinbehandlung \nDetox Face Pharmos Natur Kosmetik 50 min. / 80 min. \nLove your Age Pharmos Natur Kosmetik 80 min. \nAnti Stress Body Körperbehandlung 90 min. \nDetox Body Körperbehandlung 90 min.
URL:https://www.bayerischer-wirt.de/event/entschleunigungstag-im-gesundheitszentrum-19/
LOCATION:Gesundheitszentrum Bio Hotel Bayerischer Wirt\, Neuburgerstraße 122\, Augsburg\, Bayern\, 86167\, Germany
ATTACH;FMTTYPE=image/jpeg:https://www.bayerischer-wirt.de/wp-content/uploads/2024/03/Entschleunigungs.jpg
ORGANIZER;CN="Bio Hotel Bayerischer Wirt":MAILTO:info@bayerischer-wirt.de
END:VEVENT
BEGIN:VEVENT
DTSTART;TZID=Europe/Berlin:20260317T190000
DTEND;TZID=Europe/Berlin:20260317T210000
DTSTAMP:20260422T173319
CREATED:20260125T143513Z
LAST-MODIFIED:20260125T143513Z
UID:7352-1773774000-1773781200@www.bayerischer-wirt.de
SUMMARY:Geführte Golden-Ratio-Meditation in der Salzgrotte
DESCRIPTION:Neu-Ausrichtung und Zentrierung auf deine Mitte – den Kernfokus deiner Kraft unterstützt durch den begleitenden Einsatz von Fibonacco-Klanggabeln \nLeitung: Nabhi Gudrun Degner-Keller \nDauer: ca. 1 Std. \n  \nKommt ihr mit mir zu einem besonderen Wellness-Event? Einer ganzheitlichen Reise\, weg vom Stress und der Anspannung des Alltags: \n\nAn diesem Abend erhalten wir die bemerkenswerte Gelegenheit in eine harmonisierende Klangtherapie einzutauchen \nin eine zentrierende\, beruhigende Meditationserfahrung geführt zu werden\, welche auf die Neu-Ausrichtung des gesamten Körpers abzielt \nin  einzigartiger Kombination mit der ionisierenden Luft der Salzgrotte und sanfter Lichtatmosphäre\, erinnernd an den Mutterleib.\n\nDer goldene Schnitt\, auch bekannt als Phi\, oder göttlich mathematische Proportion\, ist in der gesamten Schöpfung\, einschließlich des menschlichen Körpers und der DNA vorhanden. \nDiese erfahren und einfühlsam geführte Meditation bringt uns in einen tiefen Entspannungszustand und lindert Gefühle von Angst\, Stress\, innerem Schmerz und Zerrissenheit\, indem sie uns sanft zurück in unsere eigene Mitte\, zu unserem inneren Gleichgewicht\, zurückbringt – an den friedvollen Ort\, an den wir gehören – unseren verborgenen Goldenen Schnitt (CORE FOCUS POINT). \nUnterstützt wird die ca. einstündige Session von Fibonacci-Klanggabel-Sequenzen (Bio-Sonics)\, welche zusätzlich Tiefen-Entspannung\, Energie-Ausbalancierung und die Lösung alter Blockaden bewirken\, mit dem Ziel Heilung und Wohlbefinden zu fördern. Dies führt zu einem erhöhten Energie-Niveau (körperlich\, geistig\, emotional und spirituell). \nSpiralförmige Intervalle und Frequenzen helfen uns natürliche Muster und harmonische Reihen aus der Natur wiederzuentdecken\, beispielsweise  die Geräusche in Muscheln nachzuempfinden\, um veränderte Bewusstseinszustände zu fördern\, sowie Kreativität und Heilung zu steigern . \nSpezielle Atemtechniken stellen außerdem eine tiefere Verbindung zu unserem individuellen Kraftzentrum und Deiner ureigenen Bewegungsrichtung wieder her. \nAnschließend könnten wir uns ja gerne noch zum Austausch im Restaurant treffen. \nKosten: 59\,00 Euro\, plus 10 Euro Eintritt – jeweils pro Person \nLeitung: Nabhi Gudrun Degner-Keller (44 Jahre Praxiserfahrung\, u. A. Klangtherapie bei Dr. John Beaulieu\, N. Y.\, USA\, Günder Biosonics\, Psychiater und Wissenschaftler) \nVerbindliche Anmeldung ausschließlich über das Bio-Hotel & Gesundheits-Zentrum\, unter Telefon: 0821 7909750 oder gesundheitszentrum@bayerischer-wirt.de \nACHTUNG: Nur für erwachsene\, stabile Persönlichkeiten!
URL:https://www.bayerischer-wirt.de/event/gefuehrte-golden-ratio-meditation-in-der-salzgrotte-5/
LOCATION:Salzgrotte Bio Hotel Bayerischer Wirt\, Neuburgerstraße 122\, Augsburg\, Bayern\, 86167\, Germany
ATTACH;FMTTYPE=image/jpeg:https://www.bayerischer-wirt.de/wp-content/uploads/2025/11/1050-scaled.jpg
END:VEVENT
BEGIN:VEVENT
DTSTART;TZID=Europe/Berlin:20260318T190000
DTEND;TZID=Europe/Berlin:20260318T203000
DTSTAMP:20260422T173319
CREATED:20260125T143549Z
LAST-MODIFIED:20260125T143700Z
UID:7354-1773860400-1773865800@www.bayerischer-wirt.de
SUMMARY:Jin Shin Jyutsu Strömabend in der Salzgrotte
DESCRIPTION:Strömabende mit Petra Weber – Vital Coaching: \nbieten eine gute Einstiegsmöglichkeit zum Üben und Kennenlernen des Jin Shin Jyutsu und des eigenen Körpers in entspannter Atmosphäre. Hier strömen sich die Teilnehmer unter Anleitung selbst. \n\,\, Strömen ist müheloses\, absichtsloses Tun. Es ist\, wie es ist.“ ( Jiro Murai) \nJin Shin Jyutsu ist eine mehrere tausend Jahre alte Kunst zur Harmonisierung der Lebensenergie im Körper. \nSeele – Geist – Körper harmonisieren. \nUnsere Lebensweise bewirkt häufig eine Stagnation des Energieflusses\, auf die wir mit Stress\, Verspannung\, Schmerzen\, Kraftlosigkeit\, seelischen Krisen oder auch mit körperlicher Krankheit reagieren. Die Kunst fördert und begünstigt auf diese Weise den Prozess der Bewusst- und Heilwerdung. \nDauer: ca. 1 Stunde \nKosten: 25€ inkl. Salzgrotteneintritt \nVoraussetzungen: Keine Vorkenntnisse nötig\, Einstieg jederzeit möglich \nMitzubringen: extra weiße Socken\, bequeme Kleidung \nAnmeldung: bitte telefonisch oder per Email
URL:https://www.bayerischer-wirt.de/event/jin-shin-jyutsu-stroemabend-in-der-salzgrotte-25/
LOCATION:Salzgrotte Bio Hotel Bayerischer Wirt\, Neuburgerstraße 122\, Augsburg\, Bayern\, 86167\, Germany
ATTACH;FMTTYPE=image/jpeg:https://www.bayerischer-wirt.de/wp-content/uploads/2025/01/foto-blume-at.jpg
ORGANIZER;CN="Petra Weber":MAILTO:mail@jsj-vital-coaching.de
END:VEVENT
BEGIN:VEVENT
DTSTART;TZID=Europe/Berlin:20260319T200000
DTEND;TZID=Europe/Berlin:20260319T213000
DTSTAMP:20260422T173319
CREATED:20260127T130640Z
LAST-MODIFIED:20260127T130640Z
UID:7368-1773950400-1773955800@www.bayerischer-wirt.de
SUMMARY:Frühlingsmärchen in der Salzgrotte
DESCRIPTION:„Zauberkraft und Frühlingsgefühle“ …!\nAnstatt im Märchenzelt erzählt Matthias Fischer regelmäßig auch in der Salzgrotte im Bio-Hotel Bayerischer Wirt. Diesmal auf dem Programm: Märchen voller Liebe\, Lebenslust und Aufbruchstimmung. Es blüht und summt im Freien\, alles wächst und gedeiht. Sich an Farben\, Blumen\, Licht erfreuen\, das ist so sinnenfroh! \nBegegnen Sie Schneeweißchen und Rosenrot. Erleben Sie mit Jorinde und Joringel\, die Zauberkraft einer Blume. Begleiten Sie die Bienenkönigin auf ihrem Flug in einer besonderen Mission. \nTauchen Sie ein in diesen Märchenfrühling\, wenn der Erzählkünstler Matthias Fischer mit Worten Bilder malt. Zum Erwachen und Aufblühen trägt die gesunde Luft in der Salzgrotte im Bio-Hotel Bayerischer Wirt bei. Danach ist man einfach entspannt und vital zugleich. \n\n\nVeranstaltungsinformationen\n\n\n\nDatum und Uhrzeit:\n\n\n\n\n19. März 2026 – 20:00 – 21:30\n\n\n\n\n\n\nEinlass erst 10 Minuten vor Beginn der Vorstellung!\n\n\n\n\n\n\n\nAlterklasse:\n\n\n\n\nErwachsene\n\n\n\n\n\n\n\n\n\nBei Familienvorstellungen: Kinder nur in Begleitung Erwachsener. Beachten Sie bitte das Mindestalter. \nStornierung und Umtausch der Tickets ist leider nicht möglich. \n\nTickets direkt über das Märchenzelt.
URL:https://www.bayerischer-wirt.de/event/fruehlingsmaerchen-in-der-salzgrotte/
LOCATION:Salzgrotte Bio Hotel Bayerischer Wirt\, Neuburgerstraße 122\, Augsburg\, Bayern\, 86167\, Germany
ATTACH;FMTTYPE=image/jpeg:https://www.bayerischer-wirt.de/wp-content/uploads/2025/01/143633_event_md_975.jpg
END:VEVENT
BEGIN:VEVENT
DTSTART;TZID=Europe/Berlin:20260322T100000
DTEND;TZID=Europe/Berlin:20260322T160000
DTSTAMP:20260422T173319
CREATED:20260127T130718Z
LAST-MODIFIED:20260127T130718Z
UID:7370-1774173600-1774195200@www.bayerischer-wirt.de
SUMMARY:Dokumentarfilm Das Phänomen der Heilung
DESCRIPTION:Die weltweiten Aktivitäten des Bruno Gröning Freundeskreis \nDie Sensation von 1949 – heute wieder hochaktuell! \nSeit 20 Jahren im Kino \n\,\, Es gibt kein Unheilbar – Gott ist der größte Arzt!“ \nEintritt frei\, Spenden Willkommen \n 
URL:https://www.bayerischer-wirt.de/event/dokumentarfilm-das-phaenomen-der-heilung-8/
LOCATION:Bio Hotel Bayerischer Wirt\, Neuburgerstraße 122\, Augsburg\, Bayern\, 86167\, Germany
ATTACH;FMTTYPE=image/jpeg:https://www.bayerischer-wirt.de/wp-content/uploads/2025/01/Bgroeninggem.jpg
ORGANIZER;CN="Bruno Gr%C3%B6ning Freundeskreis/Kreis f%C3%BCr nat%C3%BCrliche Lebenshilfe e.V.":MAILTO:www.bruno-groening.org
END:VEVENT
BEGIN:VEVENT
DTSTART;TZID=Europe/Berlin:20260323T193000
DTEND;TZID=Europe/Berlin:20260323T210000
DTSTAMP:20260422T173319
CREATED:20260127T130752Z
LAST-MODIFIED:20260127T130803Z
UID:7373-1774294200-1774299600@www.bayerischer-wirt.de
SUMMARY:Releasing Abend mit Aki Brutscher\, Belinda & Nikos
DESCRIPTION: LiveTransformation & Heilklängen mit Belinda und Nikos im wundervollen BIO Hotel Bayrischer Wirt in Augsburg \nWir starten wie immer um 18 Uhr mit einem gemeinsamen Abendessen im BIO Restaurant. \nSeid dafür bitte frühzeitig da. Um 19.15 h gehen wir zusammen in die Salzgrotte\, wo wir dann um 19.30 Uhr mit dem energetischen Heilabend starten. \nEs dauert ungefähr bis 21.15 Uhr. Dann könnt ihr wieder nach HAUSE düsen\, oder gleich im BIO Hotel übernachten. \nBitte schreibt mir an meine WhatsApp 00491702963111 wenn ihr gerne dabei sein wollt. Oder bucht bei der Belinda. \nDanke an die liebe Familie Friedl\, dass sie uns auch in 2025 wieder so gerne aufnehmen. \nHier die Termine. Tragt sie Euch bitte gerne ein. \nMärz = Mo 31.3. //\nMai = Mo 26.5. //\nJuli = Mo 21.7. //\nSept=. Mo 29.9. //\nNov=. Mo. 24.11.2025 \nAusgleich pro Person: 50 Euro \nWir freuen uns auf Euch. \nEuer Aki\, Belinda und Nikos
URL:https://www.bayerischer-wirt.de/event/releasing-abend-mit-aki-brutscher-belinda-nikos-5/
LOCATION:Salzgrotte Bio Hotel Bayerischer Wirt\, Neuburgerstraße 122\, Augsburg\, Bayern\, 86167\, Germany
ATTACH;FMTTYPE=image/jpeg:https://www.bayerischer-wirt.de/wp-content/uploads/2025/01/WhatsApp-Bild-2025-01-18-um-11.57.23_2d8990b5.jpg
ORGANIZER;CN="Aki Brutschner":MAILTO:aki.brutscher@gmx.de
END:VEVENT
BEGIN:VEVENT
DTSTART;TZID=Europe/Berlin:20260326T190000
DTEND;TZID=Europe/Berlin:20260326T200000
DTSTAMP:20260422T173319
CREATED:20260127T130855Z
LAST-MODIFIED:20260127T130855Z
UID:7375-1774551600-1774555200@www.bayerischer-wirt.de
SUMMARY:Klangschalenerlebnis in der Salzgrotte mit Petra Ablaß
DESCRIPTION:Klangschalenerlebnis für Körper\, Geist und Seele \nDurch sanftes Anschlagen von Klangschalen\, Gong und Zimbel wird das Wasser in jeder Zelle zum Schwingen gebracht. \nDie meditativen Klänge durchströmen den gesamten Körper und bringen die disharmonisch schwingenden Zellen wieder in ihre natürliche Ordnung. \nDie Schwingungen der Klangschalen haben eine ausgleichende Wirkung auf unser Körpersystem und unser Gehirn. Die Puls- und Atemfrequenz wird gesenkt und führt zu tiefer Entspannung und körperlichem Wohlbefinden. \nSeelische Blockaden können sich lösen. Die Selbstheilungskräfte werden angeregt. \nPreis: 18€ pro Person \nEinzelsitzungen oder Gruppenbuchungen können auf Anfrage auch gebucht werden.
URL:https://www.bayerischer-wirt.de/event/klangschalenerlebnis-in-der-salzgrotte-mit-petra-ablass-13/
LOCATION:Salzgrotte Bio Hotel Bayerischer Wirt\, Neuburgerstraße 122\, Augsburg\, Bayern\, 86167\, Germany
ATTACH;FMTTYPE=image/jpeg:https://www.bayerischer-wirt.de/wp-content/uploads/2024/03/Salzgrotte-2.jpg
ORGANIZER;CN="Petra Abla%C3%9F":MAILTO:petra_ablass@t-online.de
END:VEVENT
BEGIN:VEVENT
DTSTART;TZID=Europe/Berlin:20260327T190000
DTEND;TZID=Europe/Berlin:20260329T170000
DTSTAMP:20260422T173319
CREATED:20260127T131245Z
LAST-MODIFIED:20260127T132318Z
UID:7377-1774638000-1774803600@www.bayerischer-wirt.de
SUMMARY:Erwache in deine Schöpferkraft – Universelle Heilgesänge & Tiefe Transformation
DESCRIPTION:mit Heribert die heilende Stimme \n\n27.-29.3.2026 Seminar\nAugsburg\n  \n\n\n\n\nDu bist weit mehr\, als du momentan wahrnimmst. Tief in dir schlummert ein gewaltiges Potenzial\, das nur darauf wartet\, an die Oberfläche deines Lebens zu treten. Spürst du\, dass es Zeit ist? Zeit\, dass dieses Potenzial erwacht\, damit du all deine verborgenen Stärken und deine ureigene Kreativität endlich voll ausleben kanns \nIn diesem Seminar öffnen wir einen Raum für radikale Veränderung. Durch neue\, hochwirksame Heilmethoden\, die mir durch die Geistige Welt übermittelt wurden\, initiieren wir tiefgreifende Prozesse\, die weit über das hinausgehen\, was wir im Alleingang bewältigen könnten. Was geschieht in diesem Raum? Heribert dient als Kanal für universelle Heilgesänge. Diese Töne sind nicht nur von dieser Welt – es sind Heilfrequenzen\, die direkt in die tiefsten Schichten deines Daseins reisen. Sie dringen bis in deine Zellstrukturen vor\, dorthin\, wo alte Speicherungen und Blockaden sitzen\, die wir mit dem Verstand nicht erreichen können. \nDeine Heilöffnungen: \n\nErlösung: Tiefere Schichten deines Seins dürfen sich lösen und heilen.\nErweiterung: Erfahre bewusste Veränderungen in deinem Körper und eine Ausdehnung deines Bewusstseins.\nSchöpfung: Erinnere dich daran: Du bist der Schöpfer deiner Realität.\n\nLass uns gemeinsam in diese tiefen Schichten eintauchen und das befreien\, was du wirklich bist. Es ist Zeit\, deine wahre Größe zu leben. \n  \nHeiltönen mit Heribert öffnet die blockierte Lebenskraft in uns. Im Körper entsteht eine Vibration\, die auf der Zellebene festgefahrene mentale Strukturen öffnet\, sodass die göttliche lebendige Präsenz in dir wieder spürbar wird. Erfahre die heilsame Wirkung der besonderen Heilgesänge von Heribert Czerniak\, die durch seine Medialität und Heilfähigkeiten in der Aura und im Körper Energieblockaden befreit. \n\n\n\n\n  \n\nZeiten\nFreitag 19:00\nSamstag 10:00-18:00 Uhr\nSonntag 10:00-17:00 Uhr \nSa/So jeweils 2h Mittagspause \n\nAusgleich\nFreitag 30 € | Freitag-Sonntag 370 € (inkl. Eintritt in die Salzgrotte) \n\nOrt\nBiohotel Neuburger Str.122\, 86167 Augsburg in der Salzgrotte mit Kristallklangschalen \n\nAnmeldung\nTelefon +49 (0) 176 32 59 11 89 E-Mail info@heilende-stimme.com \n  \n\n  \nHeribert – Klangmedium und Heiler\nSeit seinem 21-tägigen Einweihungsprozess in den »Ramana-Maharshi-Höhlen« des Berges Arunachala in Indien hat Heribert die Fähigkeit\, mit Heilgesängen bis in die schwierigen\, unbewussten\, psychischen und körperlichen Themen zu wirken. In den letzten Jahren nahm Heribert als Medium immer mehr wahr\, wie die Tonfrequenzen in der DNS eine Umprogrammierung vornehmen. \n  \nIn jedem Seminar bedeutet Heiltönen mit Heribert: \n\nEine Selbstermächtigung in Anbindung mit deiner Seele. Heribert bereitet dein Energiesystem für eine kraftvolle Invokation / Anrufung vor.\nIn einer intensiven Heilöffnung tönt kein ICH mehr\, das tönt. Es tönt in dir.\nDu wirst immer mehr Medium für die Heilgesänge\, die durch dich wirken.\nDas eigene Heiltönen in der Gruppe mit Heribert öffnet die blockierte Lebenskraft in dir.\nEin eigenes Heiltönen in der Gruppe bedeutet Heilöffnungen im Kehlkopfchakra\, die uns wieder ganz in die ureigene Kraft und zum eigenen Seelenton führen.
URL:https://www.bayerischer-wirt.de/event/erwache-in-deine-schoepferkraft-universelle-heilgesaenge-tiefe-transformation/
LOCATION:Salzgrotte Bio Hotel Bayerischer Wirt\, Neuburgerstraße 122\, Augsburg\, Bayern\, 86167\, Germany
ATTACH;FMTTYPE=image/jpeg:https://www.bayerischer-wirt.de/wp-content/uploads/2026/01/images.jpg
ORGANIZER;CN="Heribert die heilende Stimme":MAILTO:info@heilende-stimme.com
END:VEVENT
END:VCALENDAR